View In:
ArcGIS JavaScript
ArcGIS Online Map Viewer
ArcGIS Earth
ArcMap
View Footprint In:
ArcGIS Online Map Viewer
Service Description: Canopy Height Model created by Leading Edge Geomatics for the LEG Demo.
Name: LEG_Demo/D_LEG_CHM
Description: Canopy Height Model created by Leading Edge Geomatics for the LEG Demo.
Single Fused Map Cache: false
Extent:
XMin: 2503236.4333554646
YMin: 7439640.3787897825
XMax: 2521221.4333554646
YMax: 7448688.8787897825
Spatial Reference: PROJCS["NAD_1983_CSRS_New_Brunswick_Stereographic",GEOGCS["GCS_North_American_1983_CSRS",DATUM["D_North_American_1983_CSRS",SPHEROID["GRS_1980",6378137.0,298.257222101]],PRIMEM["Greenwich",0.0],UNIT["Degree",0.0174532925199433]],PROJECTION["Stereographic"],PARAMETER["false_easting",2500000.0],PARAMETER["false_northing",7500000.0],PARAMETER["central_meridian",-66.5],PARAMETER["scale_factor",0.999912],PARAMETER["latitude_of_origin",46.5],UNIT["Meter",1.0]]
Initial Extent:
XMin: 2503236.4333554646
YMin: 7439640.3787897825
XMax: 2521221.4333554646
YMax: 7448688.8787897825
Spatial Reference: PROJCS["NAD_1983_CSRS_New_Brunswick_Stereographic",GEOGCS["GCS_North_American_1983_CSRS",DATUM["D_North_American_1983_CSRS",SPHEROID["GRS_1980",6378137.0,298.257222101]],PRIMEM["Greenwich",0.0],UNIT["Degree",0.0174532925199433]],PROJECTION["Stereographic"],PARAMETER["false_easting",2500000.0],PARAMETER["false_northing",7500000.0],PARAMETER["central_meridian",-66.5],PARAMETER["scale_factor",0.999912],PARAMETER["latitude_of_origin",46.5],UNIT["Meter",1.0]]
Full Extent:
XMin: 2503236.4333554646
YMin: 7439640.3787897825
XMax: 2521221.4333554646
YMax: 7448688.8787897825
Spatial Reference: PROJCS["NAD_1983_CSRS_New_Brunswick_Stereographic",GEOGCS["GCS_North_American_1983_CSRS",DATUM["D_North_American_1983_CSRS",SPHEROID["GRS_1980",6378137.0,298.257222101]],PRIMEM["Greenwich",0.0],UNIT["Degree",0.0174532925199433]],PROJECTION["Stereographic"],PARAMETER["false_easting",2500000.0],PARAMETER["false_northing",7500000.0],PARAMETER["central_meridian",-66.5],PARAMETER["scale_factor",0.999912],PARAMETER["latitude_of_origin",46.5],UNIT["Meter",1.0]]
Pixel Size X: 0.5
Pixel Size Y: 0.5
Band Count: 1
Pixel Type: F32
RasterFunction Infos: {"rasterFunctionInfos": [
{
"name": "CHM_Template",
"description": "A raster function template.",
"help": ""
},
{
"name": "CHM_CSR_Template",
"description": "A raster function template.",
"help": ""
},
{
"name": "None",
"description": "",
"help": ""
}
]}
Mensuration Capabilities: Basic
Has Histograms: true
Has Colormap: false
Has Multi Dimensions : false
Rendering Rule:
Min Scale: 0
Max Scale: 0
Copyright Text: Leading Edge Geomatics & NSCC
Service Data Type: esriImageServiceDataTypeGeneric
Min Values: -491.88519287109375
Max Values: 361.13067626953125
Mean Values: 6.111696576312223
Standard Deviation Values: 4.895556216420292
Object ID Field:
Fields:
None
Default Mosaic Method: Center
Allowed Mosaic Methods:
SortField:
SortValue: null
Mosaic Operator: First
Default Compression Quality: 75
Default Resampling Method: Bilinear
Max Record Count: null
Max Image Height: 4100
Max Image Width: 15000
Max Download Image Count: null
Max Mosaic Image Count: null
Allow Raster Function: true
Allow Copy: null
Allow Analysis: null
Allow Compute TiePoints: false
Supports Statistics: false
Supports Advanced Queries: false
Use StandardizedQueries: true
Raster Type Infos:
Name: Raster Dataset
Description: Supports all ArcGIS Raster Datasets
Help:
Has Raster Attribute Table: false
Edit Fields Info: null
Ownership Based AccessControl For Rasters: null
Child Resources:
Info
Histograms
Key Properties
Legend
Raster Function Infos
Supported Operations:
Export Image
Identify
Measure
Compute Histograms
Compute Statistics Histograms
Get Samples
Compute Class Statistics
Query Boundary
Compute Pixel Location
Validate
Project