{
 "currentVersion": 10.81,
 "serviceDescription": "Canopy Height Model created by Leading Edge Geomatics for the LEG Demo.",
 "name": "LEG_Demo/D_LEG_CHM",
 "description": "Canopy Height Model created by Leading Edge Geomatics for the LEG Demo.",
 "extent": {
  "xmin": 2503236.4333554646,
  "ymin": 7439640.3787897825,
  "xmax": 2521221.4333554646,
  "ymax": 7448688.8787897825,
  "spatialReference": {
   "wkt": "PROJCS[\"NAD_1983_CSRS_New_Brunswick_Stereographic\",GEOGCS[\"GCS_North_American_1983_CSRS\",DATUM[\"D_North_American_1983_CSRS\",SPHEROID[\"GRS_1980\",6378137.0,298.257222101]],PRIMEM[\"Greenwich\",0.0],UNIT[\"Degree\",0.0174532925199433]],PROJECTION[\"Stereographic\"],PARAMETER[\"false_easting\",2500000.0],PARAMETER[\"false_northing\",7500000.0],PARAMETER[\"central_meridian\",-66.5],PARAMETER[\"scale_factor\",0.999912],PARAMETER[\"latitude_of_origin\",46.5],UNIT[\"Meter\",1.0]]"
  }
 },
 "initialExtent": {
  "xmin": 2503236.4333554646,
  "ymin": 7439640.3787897825,
  "xmax": 2521221.4333554646,
  "ymax": 7448688.8787897825,
  "spatialReference": {
   "wkt": "PROJCS[\"NAD_1983_CSRS_New_Brunswick_Stereographic\",GEOGCS[\"GCS_North_American_1983_CSRS\",DATUM[\"D_North_American_1983_CSRS\",SPHEROID[\"GRS_1980\",6378137.0,298.257222101]],PRIMEM[\"Greenwich\",0.0],UNIT[\"Degree\",0.0174532925199433]],PROJECTION[\"Stereographic\"],PARAMETER[\"false_easting\",2500000.0],PARAMETER[\"false_northing\",7500000.0],PARAMETER[\"central_meridian\",-66.5],PARAMETER[\"scale_factor\",0.999912],PARAMETER[\"latitude_of_origin\",46.5],UNIT[\"Meter\",1.0]]"
  }
 },
 "fullExtent": {
  "xmin": 2503236.4333554646,
  "ymin": 7439640.3787897825,
  "xmax": 2521221.4333554646,
  "ymax": 7448688.8787897825,
  "spatialReference": {
   "wkt": "PROJCS[\"NAD_1983_CSRS_New_Brunswick_Stereographic\",GEOGCS[\"GCS_North_American_1983_CSRS\",DATUM[\"D_North_American_1983_CSRS\",SPHEROID[\"GRS_1980\",6378137.0,298.257222101]],PRIMEM[\"Greenwich\",0.0],UNIT[\"Degree\",0.0174532925199433]],PROJECTION[\"Stereographic\"],PARAMETER[\"false_easting\",2500000.0],PARAMETER[\"false_northing\",7500000.0],PARAMETER[\"central_meridian\",-66.5],PARAMETER[\"scale_factor\",0.999912],PARAMETER[\"latitude_of_origin\",46.5],UNIT[\"Meter\",1.0]]"
  }
 },
 "pixelSizeX": 0.5,
 "pixelSizeY": 0.5,
 "bandCount": 1,
 "pixelType": "F32",
 "minPixelSize": 0,
 "maxPixelSize": 0,
 "copyrightText": "Leading Edge Geomatics & NSCC",
 "serviceDataType": "esriImageServiceDataTypeGeneric",
 "minValues": [
  -491.88519287109375
 ],
 "maxValues": [
  361.13067626953125
 ],
 "meanValues": [
  6.111696576312223
 ],
 "stdvValues": [
  4.895556216420292
 ],
 "objectIdField": "",
 "fields": [],
 "capabilities": "Image,Metadata,Mensuration",
 "defaultMosaicMethod": "Center",
 "allowedMosaicMethods": "",
 "sortField": "",
 "sortValue": null,
 "sortAscending": true,
 "mosaicOperator": "First",
 "defaultCompressionQuality": 75,
 "defaultResamplingMethod": "Bilinear",
 "maxImageHeight": 4100,
 "maxImageWidth": 15000,
 "allowRasterFunction": true,
 "rasterFunctionInfos": [
  {
   "name": "CHM_Template",
   "description": "A raster function template.",
   "help": ""
  },
  {
   "name": "CHM_CSR_Template",
   "description": "A raster function template.",
   "help": ""
  },
  {
   "name": "None",
   "description": "",
   "help": ""
  }
 ],
 "rasterTypeInfos": [
  {
   "name": "Raster Dataset",
   "description": "Supports all ArcGIS Raster Datasets",
   "help": ""
  }
 ],
 "mensurationCapabilities": "Basic",
 "hasHistograms": true,
 "hasColormap": false,
 "hasRasterAttributeTable": false,
 "minScale": 0,
 "maxScale": 0,
 "exportTilesAllowed": false,
 "hasMultidimensions": false,
 "supportsStatistics": false,
 "supportsAdvancedQueries": false,
 "editFieldsInfo": null,
 "ownershipBasedAccessControlForRasters": null,
 "allowComputeTiePoints": false,
 "useStandardizedQueries": true,
 "advancedQueryCapabilities": {
  "useStandardizedQueries": true,
  "supportsStatistics": false,
  "supportsOrderBy": false,
  "supportsDistinct": false,
  "supportsPagination": false
 },
 "spatialReference": {
  "wkt": "PROJCS[\"NAD_1983_CSRS_New_Brunswick_Stereographic\",GEOGCS[\"GCS_North_American_1983_CSRS\",DATUM[\"D_North_American_1983_CSRS\",SPHEROID[\"GRS_1980\",6378137.0,298.257222101]],PRIMEM[\"Greenwich\",0.0],UNIT[\"Degree\",0.0174532925199433]],PROJECTION[\"Stereographic\"],PARAMETER[\"false_easting\",2500000.0],PARAMETER[\"false_northing\",7500000.0],PARAMETER[\"central_meridian\",-66.5],PARAMETER[\"scale_factor\",0.999912],PARAMETER[\"latitude_of_origin\",46.5],UNIT[\"Meter\",1.0]]"
 }
}
