View In:
ArcGIS JavaScript
ArcGIS Online Map Viewer
ArcGIS Earth
ArcMap
View Footprint In:
ArcGIS Online Map Viewer
Service Description: ElevationModels/CVD_kkmc1_tif
Name: ElevationModels/CVD_kkmc1_tif
Description:
Single Fused Map Cache: false
Extent:
XMin: 180000.10840000026
YMin: 4800001.088300001
XMax: 770000.1084000003
YMax: 5340001.088300001
Spatial Reference: 26920
(26920)
Initial Extent:
XMin: 180000.10840000026
YMin: 4800001.088300001
XMax: 770000.1084000003
YMax: 5340001.088300001
Spatial Reference: 26920
(26920)
Full Extent:
XMin: 180000.10840000026
YMin: 4800001.088300001
XMax: 770000.1084000003
YMax: 5340001.088300001
Spatial Reference: 26920
(26920)
Pixel Size X: 100.0
Pixel Size Y: 100.0
Band Count: 1
Pixel Type: S16
RasterFunction Infos: {"rasterFunctionInfos": [{
"name": "None",
"description": "",
"help": ""
}]}
Mensuration Capabilities: Basic
Has Histograms: true
Has Colormap: false
Has Multi Dimensions : false
Rendering Rule:
Min Scale: 0
Max Scale: 0
Copyright Text:
Service Data Type: esriImageServiceDataTypeThematic
Min Values: -347
Max Values: 7528
Mean Values: 544.50091842445
Standard Deviation Values: 1439.0946885055
Object ID Field:
Fields:
None
Default Mosaic Method: Center
Allowed Mosaic Methods:
SortField:
SortValue: null
Mosaic Operator: First
Default Compression Quality: 75
Default Resampling Method: Bilinear
Max Record Count: null
Max Image Height: 4100
Max Image Width: 15000
Max Download Image Count: null
Max Mosaic Image Count: null
Allow Raster Function: true
Allow Copy: true
Allow Analysis: true
Allow Compute TiePoints: false
Supports Statistics: false
Supports Advanced Queries: false
Use StandardizedQueries: true
Raster Type Infos:
Name: Raster Dataset
Description: Supports all ArcGIS Raster Datasets
Help:
Has Raster Attribute Table: true
Edit Fields Info: null
Ownership Based AccessControl For Rasters: null
Child Resources:
Info
Raster Attribute Table
Histograms
Statistics
Key Properties
Legend
Raster Function Infos
Supported Operations:
Export Image
Identify
Measure
Compute Histograms
Compute Statistics Histograms
Get Samples
Compute Class Statistics
Query Boundary
Compute Pixel Location
Validate
Project