{
 "currentVersion": 10.81,
 "serviceDescription": "ElevationModels/CVD_kkmc1_tif",
 "name": "ElevationModels/CVD_kkmc1_tif",
 "description": "",
 "extent": {
  "xmin": 180000.10840000026,
  "ymin": 4800001.088300001,
  "xmax": 770000.1084000003,
  "ymax": 5340001.088300001,
  "spatialReference": {
   "wkid": 26920,
   "latestWkid": 26920
  }
 },
 "initialExtent": {
  "xmin": 180000.10840000026,
  "ymin": 4800001.088300001,
  "xmax": 770000.1084000003,
  "ymax": 5340001.088300001,
  "spatialReference": {
   "wkid": 26920,
   "latestWkid": 26920
  }
 },
 "fullExtent": {
  "xmin": 180000.10840000026,
  "ymin": 4800001.088300001,
  "xmax": 770000.1084000003,
  "ymax": 5340001.088300001,
  "spatialReference": {
   "wkid": 26920,
   "latestWkid": 26920
  }
 },
 "pixelSizeX": 100,
 "pixelSizeY": 100,
 "datasetFormat": "TIFF",
 "uncompressedSize": 63720000,
 "blockWidth": 128,
 "blockHeight": 128,
 "compressionType": "None",
 "bandNames": [
  "Band_1"
 ],
 "allowCopy": true,
 "allowAnalysis": true,
 "bandCount": 1,
 "pixelType": "S16",
 "minPixelSize": 0,
 "maxPixelSize": 0,
 "copyrightText": "",
 "serviceDataType": "esriImageServiceDataTypeThematic",
 "serviceSourceType": "esriImageServiceSourceTypeDataset",
 "minValues": [
  -347
 ],
 "maxValues": [
  7528
 ],
 "meanValues": [
  544.50091842445
 ],
 "stdvValues": [
  1439.0946885055
 ],
 "objectIdField": "",
 "fields": [],
 "capabilities": "Image,Metadata,Mensuration",
 "defaultMosaicMethod": "Center",
 "allowedMosaicMethods": "",
 "sortField": "",
 "sortValue": null,
 "sortAscending": true,
 "mosaicOperator": "First",
 "defaultCompressionQuality": 75,
 "defaultResamplingMethod": "Bilinear",
 "maxImageHeight": 4100,
 "maxImageWidth": 15000,
 "allowRasterFunction": true,
 "rasterFunctionInfos": [
  {
   "name": "None",
   "description": "",
   "help": ""
  }
 ],
 "rasterTypeInfos": [
  {
   "name": "Raster Dataset",
   "description": "Supports all ArcGIS Raster Datasets",
   "help": ""
  }
 ],
 "mensurationCapabilities": "Basic",
 "hasHistograms": true,
 "hasColormap": false,
 "hasRasterAttributeTable": true,
 "minScale": 0,
 "maxScale": 0,
 "exportTilesAllowed": false,
 "hasMultidimensions": false,
 "supportsStatistics": false,
 "supportsAdvancedQueries": false,
 "editFieldsInfo": null,
 "ownershipBasedAccessControlForRasters": null,
 "allowComputeTiePoints": false,
 "useStandardizedQueries": true,
 "advancedQueryCapabilities": {
  "useStandardizedQueries": true,
  "supportsStatistics": false,
  "supportsOrderBy": false,
  "supportsDistinct": false,
  "supportsPagination": false
 },
 "spatialReference": {
  "wkid": 26920,
  "latestWkid": 26920
 }
}
