View In:
ArcGIS JavaScript
ArcGIS Online Map Viewer
ArcGIS Earth
ArcMap
View Footprint In:
ArcGIS Online Map Viewer
Service Description: Digital Elevation Model
Date: 2014
Copyright: Applied Geomatics Research Group (AGRG) Nova Scotia Community College (NSCC) Description: 1 meter resolution digital elevation model, created with lidar data and smoothed with a 3x3 mean filter.
Name: DFO/Smooth_DEM
Description: Digital Elevation Model
Date: 2014
Copyright: Applied Geomatics Research Group (AGRG) Nova Scotia Community College (NSCC) Description: 1 meter resolution digital elevation model, created with lidar data and smoothed with a 3x3 mean filter.
Single Fused Map Cache: false
Extent:
XMin: 531000
YMin: 5054000
XMax: 542000
YMax: 5058000
Spatial Reference: 2038
(2961)
Initial Extent:
XMin: 531000
YMin: 5054000
XMax: 542000
YMax: 5058000
Spatial Reference: 2038
(2961)
Full Extent:
XMin: 531000
YMin: 5054000
XMax: 542000
YMax: 5058000
Spatial Reference: 2038
(2961)
Pixel Size X: 1.0
Pixel Size Y: 1.0
Band Count: 1
Pixel Type: F32
RasterFunction Infos: {"rasterFunctionInfos": [
{
"name": "DEM",
"description": "A raster function template.",
"help": ""
},
{
"name": "None",
"description": "",
"help": ""
}
]}
Mensuration Capabilities: Basic
Has Histograms: true
Has Colormap: false
Has Multi Dimensions : false
Rendering Rule:
Min Scale: 0
Max Scale: 0
Copyright Text: Nova Scotia Community College (NSCC) Applied Geomatics Research Group (AGRG)
Service Data Type: esriImageServiceDataTypeGeneric
Min Values: -5.7484111785889
Max Values: 51.434856414795
Mean Values: 8.2952390111943
Standard Deviation Values: 10.620575315555
Object ID Field:
Fields:
None
Default Mosaic Method: Center
Allowed Mosaic Methods:
SortField:
SortValue: null
Mosaic Operator: First
Default Compression Quality: 75
Default Resampling Method: Bilinear
Max Record Count: null
Max Image Height: 4100
Max Image Width: 15000
Max Download Image Count: null
Max Mosaic Image Count: null
Allow Raster Function: true
Allow Copy: null
Allow Analysis: null
Allow Compute TiePoints: false
Supports Statistics: false
Supports Advanced Queries: false
Use StandardizedQueries: true
Raster Type Infos:
Name: Raster Dataset
Description: Supports all ArcGIS Raster Datasets
Help:
Has Raster Attribute Table: false
Edit Fields Info: null
Ownership Based AccessControl For Rasters: null
Child Resources:
Info
Histograms
Key Properties
Legend
Raster Function Infos
Supported Operations:
Export Image
Identify
Measure
Compute Histograms
Compute Statistics Histograms
Get Samples
Compute Class Statistics
Query Boundary
Compute Pixel Location
Validate
Project