{
 "currentVersion": 10.81,
 "serviceDescription": "Digital Elevation Model\nDate: 2014\nCopyright: Applied Geomatics Research Group (AGRG) Nova Scotia Community College (NSCC) \nDescription: 1 meter resolution digital elevation model, created with lidar data and smoothed with a 3x3 mean filter. \n",
 "name": "DFO/Smooth_DEM",
 "description": "Digital Elevation Model\nDate: 2014\nCopyright: Applied Geomatics Research Group (AGRG) Nova Scotia Community College (NSCC) \nDescription: 1 meter resolution digital elevation model, created with lidar data and smoothed with a 3x3 mean filter. \n",
 "extent": {
  "xmin": 531000,
  "ymin": 5054000,
  "xmax": 542000,
  "ymax": 5058000,
  "spatialReference": {
   "wkid": 2038,
   "latestWkid": 2961
  }
 },
 "initialExtent": {
  "xmin": 531000,
  "ymin": 5054000,
  "xmax": 542000,
  "ymax": 5058000,
  "spatialReference": {
   "wkid": 2038,
   "latestWkid": 2961
  }
 },
 "fullExtent": {
  "xmin": 531000,
  "ymin": 5054000,
  "xmax": 542000,
  "ymax": 5058000,
  "spatialReference": {
   "wkid": 2038,
   "latestWkid": 2961
  }
 },
 "pixelSizeX": 1,
 "pixelSizeY": 1,
 "bandCount": 1,
 "pixelType": "F32",
 "minPixelSize": 0,
 "maxPixelSize": 0,
 "copyrightText": "Nova Scotia Community College (NSCC) Applied Geomatics Research Group (AGRG) ",
 "serviceDataType": "esriImageServiceDataTypeGeneric",
 "minValues": [
  -5.7484111785889
 ],
 "maxValues": [
  51.434856414795
 ],
 "meanValues": [
  8.2952390111943
 ],
 "stdvValues": [
  10.620575315555
 ],
 "objectIdField": "",
 "fields": [],
 "capabilities": "Image,Metadata,Mensuration",
 "defaultMosaicMethod": "Center",
 "allowedMosaicMethods": "",
 "sortField": "",
 "sortValue": null,
 "sortAscending": true,
 "mosaicOperator": "First",
 "defaultCompressionQuality": 75,
 "defaultResamplingMethod": "Bilinear",
 "maxImageHeight": 4100,
 "maxImageWidth": 15000,
 "allowRasterFunction": true,
 "rasterFunctionInfos": [
  {
   "name": "DEM",
   "description": "A raster function template.",
   "help": ""
  },
  {
   "name": "None",
   "description": "",
   "help": ""
  }
 ],
 "rasterTypeInfos": [
  {
   "name": "Raster Dataset",
   "description": "Supports all ArcGIS Raster Datasets",
   "help": ""
  }
 ],
 "mensurationCapabilities": "Basic",
 "hasHistograms": true,
 "hasColormap": false,
 "hasRasterAttributeTable": false,
 "minScale": 0,
 "maxScale": 0,
 "exportTilesAllowed": false,
 "hasMultidimensions": false,
 "supportsStatistics": false,
 "supportsAdvancedQueries": false,
 "editFieldsInfo": null,
 "ownershipBasedAccessControlForRasters": null,
 "allowComputeTiePoints": false,
 "useStandardizedQueries": true,
 "advancedQueryCapabilities": {
  "useStandardizedQueries": true,
  "supportsStatistics": false,
  "supportsOrderBy": false,
  "supportsDistinct": false,
  "supportsPagination": false
 },
 "spatialReference": {
  "wkid": 2038,
  "latestWkid": 2961
 }
}
