View In:
ArcGIS JavaScript
ArcGIS Online Map Viewer
ArcGIS Earth
ArcMap
View Footprint In:
ArcGIS Online Map Viewer
Service Description: Maximum Monthly Currents Date: 2014 Copyright: Applied Geomatics Research Group (AGRG) Nova Scotia Community College (NSCC) Description: Maximum value of current magnitudes in m/s during a 1 month simulation of the hydrodynamic model.
Name: DFO/LH_MaxCurrents
Description: Maximum Monthly Currents Date: 2014 Copyright: Applied Geomatics Research Group (AGRG) Nova Scotia Community College (NSCC) Description: Maximum value of current magnitudes in m/s during a 1 month simulation of the hydrodynamic model.
Single Fused Map Cache: false
Extent:
XMin: 532500.99999
YMin: 5054419
XMax: 539457.99999
YMax: 5056759
Spatial Reference: 26920
(26920)
Initial Extent:
XMin: 532500.99999
YMin: 5054419
XMax: 539457.99999
YMax: 5056759
Spatial Reference: 26920
(26920)
Full Extent:
XMin: 532500.99999
YMin: 5054419
XMax: 539457.99999
YMax: 5056759
Spatial Reference: 26920
(26920)
Pixel Size X: 3.0
Pixel Size Y: 3.0
Band Count: 1
Pixel Type: F32
RasterFunction Infos: {"rasterFunctionInfos": [
{
"name": "CurrentsMaxContinuous",
"description": "A raster function template.",
"help": ""
},
{
"name": "None",
"description": "",
"help": ""
}
]}
Mensuration Capabilities: Basic
Has Histograms: true
Has Colormap: false
Has Multi Dimensions : false
Rendering Rule:
Min Scale: 0
Max Scale: 0
Copyright Text: Nova Scotia Community College (NSCC) Applied Geomatics Research Group (AGRG)
Service Data Type: esriImageServiceDataTypeGeneric
Min Values: 0
Max Values: 1.7001999616623
Mean Values: 0.18228616445461
Standard Deviation Values: 0.18170126903055
Object ID Field:
Fields:
None
Default Mosaic Method: Center
Allowed Mosaic Methods:
SortField:
SortValue: null
Mosaic Operator: First
Default Compression Quality: 75
Default Resampling Method: Bilinear
Max Record Count: null
Max Image Height: 4100
Max Image Width: 15000
Max Download Image Count: null
Max Mosaic Image Count: null
Allow Raster Function: true
Allow Copy: null
Allow Analysis: null
Allow Compute TiePoints: false
Supports Statistics: false
Supports Advanced Queries: false
Use StandardizedQueries: true
Raster Type Infos:
Name: Raster Dataset
Description: Supports all ArcGIS Raster Datasets
Help:
Has Raster Attribute Table: false
Edit Fields Info: null
Ownership Based AccessControl For Rasters: null
Child Resources:
Info
Histograms
Key Properties
Legend
Raster Function Infos
Supported Operations:
Export Image
Identify
Measure
Compute Histograms
Compute Statistics Histograms
Get Samples
Compute Class Statistics
Query Boundary
Compute Pixel Location
Validate
Project