{
 "currentVersion": 10.81,
 "serviceDescription": "Maximum Monthly Currents Date: 2014 Copyright: Applied Geomatics Research Group (AGRG) Nova Scotia Community College (NSCC) Description: Maximum value of current magnitudes in m/s during a 1 month simulation of the hydrodynamic model.",
 "name": "DFO/LH_MaxCurrents",
 "description": "Maximum Monthly Currents Date: 2014 Copyright: Applied Geomatics Research Group (AGRG) Nova Scotia Community College (NSCC) Description: Maximum value of current magnitudes in m/s during a 1 month simulation of the hydrodynamic model.",
 "extent": {
  "xmin": 532500.99999,
  "ymin": 5054419,
  "xmax": 539457.99999,
  "ymax": 5056759,
  "spatialReference": {
   "wkid": 26920,
   "latestWkid": 26920
  }
 },
 "initialExtent": {
  "xmin": 532500.99999,
  "ymin": 5054419,
  "xmax": 539457.99999,
  "ymax": 5056759,
  "spatialReference": {
   "wkid": 26920,
   "latestWkid": 26920
  }
 },
 "fullExtent": {
  "xmin": 532500.99999,
  "ymin": 5054419,
  "xmax": 539457.99999,
  "ymax": 5056759,
  "spatialReference": {
   "wkid": 26920,
   "latestWkid": 26920
  }
 },
 "pixelSizeX": 3,
 "pixelSizeY": 3,
 "bandCount": 1,
 "pixelType": "F32",
 "minPixelSize": 0,
 "maxPixelSize": 0,
 "copyrightText": "Nova Scotia Community College (NSCC) Applied Geomatics Research Group (AGRG)",
 "serviceDataType": "esriImageServiceDataTypeGeneric",
 "minValues": [
  0
 ],
 "maxValues": [
  1.7001999616623
 ],
 "meanValues": [
  0.18228616445461
 ],
 "stdvValues": [
  0.18170126903055
 ],
 "objectIdField": "",
 "fields": [],
 "capabilities": "Image,Metadata,Mensuration",
 "defaultMosaicMethod": "Center",
 "allowedMosaicMethods": "",
 "sortField": "",
 "sortValue": null,
 "sortAscending": true,
 "mosaicOperator": "First",
 "defaultCompressionQuality": 75,
 "defaultResamplingMethod": "Bilinear",
 "maxImageHeight": 4100,
 "maxImageWidth": 15000,
 "allowRasterFunction": true,
 "rasterFunctionInfos": [
  {
   "name": "CurrentsMaxContinuous",
   "description": "A raster function template.",
   "help": ""
  },
  {
   "name": "None",
   "description": "",
   "help": ""
  }
 ],
 "rasterTypeInfos": [
  {
   "name": "Raster Dataset",
   "description": "Supports all ArcGIS Raster Datasets",
   "help": ""
  }
 ],
 "mensurationCapabilities": "Basic",
 "hasHistograms": true,
 "hasColormap": false,
 "hasRasterAttributeTable": false,
 "minScale": 0,
 "maxScale": 0,
 "exportTilesAllowed": false,
 "hasMultidimensions": false,
 "supportsStatistics": false,
 "supportsAdvancedQueries": false,
 "editFieldsInfo": null,
 "ownershipBasedAccessControlForRasters": null,
 "allowComputeTiePoints": false,
 "useStandardizedQueries": true,
 "advancedQueryCapabilities": {
  "useStandardizedQueries": true,
  "supportsStatistics": false,
  "supportsOrderBy": false,
  "supportsDistinct": false,
  "supportsPagination": false
 },
 "spatialReference": {
  "wkid": 26920,
  "latestWkid": 26920
 }
}
