View In:
ArcGIS JavaScript
ArcGIS Online Map Viewer
ArcGIS Earth
ArcMap
View Footprint In:
ArcGIS Online Map Viewer
Service Description: Flushing Time (days) Date: 2014 Copyright: Applied Geomatics Research Group (AGRG) Nova Scotia Community College (NSCC) Description: The number of days it takes for the harbor to be considered flushed, such that only 1/e of particles present at Day 1 of the simulation remain.
Name: DFO/LH_FlushTime
Description: Flushing Time (days) Date: 2014 Copyright: Applied Geomatics Research Group (AGRG) Nova Scotia Community College (NSCC) Description: The number of days it takes for the harbor to be considered flushed, such that only 1/e of particles present at Day 1 of the simulation remain.
Single Fused Map Cache: false
Extent:
XMin: 532505
YMin: 5054421
XMax: 539462
YMax: 5056761
Spatial Reference: 26920
(26920)
Initial Extent:
XMin: 532505
YMin: 5054421
XMax: 539462
YMax: 5056761
Spatial Reference: 26920
(26920)
Full Extent:
XMin: 532505
YMin: 5054421
XMax: 539462
YMax: 5056761
Spatial Reference: 26920
(26920)
Pixel Size X: 3.0
Pixel Size Y: 3.0
Band Count: 1
Pixel Type: F32
RasterFunction Infos: {"rasterFunctionInfos": [
{
"name": "FlushingTime",
"description": "A raster function template.",
"help": ""
},
{
"name": "None",
"description": "",
"help": ""
}
]}
Mensuration Capabilities: Basic
Has Histograms: true
Has Colormap: false
Has Multi Dimensions : false
Rendering Rule:
Min Scale: 0
Max Scale: 0
Copyright Text: Nova Scotia Community College (NSCC) Applied Geomatics Research Group (AGRG)
Service Data Type: esriImageServiceDataTypeGeneric
Min Values: 0.16666667163372
Max Values: 30
Mean Values: 9.062567244683
Standard Deviation Values: 11.808919628103
Object ID Field:
Fields:
None
Default Mosaic Method: Center
Allowed Mosaic Methods:
SortField:
SortValue: null
Mosaic Operator: First
Default Compression Quality: 75
Default Resampling Method: Bilinear
Max Record Count: null
Max Image Height: 4100
Max Image Width: 15000
Max Download Image Count: null
Max Mosaic Image Count: null
Allow Raster Function: true
Allow Copy: null
Allow Analysis: null
Allow Compute TiePoints: false
Supports Statistics: false
Supports Advanced Queries: false
Use StandardizedQueries: true
Raster Type Infos:
Name: Raster Dataset
Description: Supports all ArcGIS Raster Datasets
Help:
Has Raster Attribute Table: false
Edit Fields Info: null
Ownership Based AccessControl For Rasters: null
Child Resources:
Info
Histograms
Key Properties
Legend
Raster Function Infos
Supported Operations:
Export Image
Identify
Measure
Compute Histograms
Compute Statistics Histograms
Get Samples
Compute Class Statistics
Query Boundary
Compute Pixel Location
Validate
Project