{
 "currentVersion": 10.81,
 "serviceDescription": "Flushing Time (days) Date: 2014 Copyright: Applied Geomatics Research Group (AGRG) Nova Scotia Community College (NSCC) Description: The number of days it takes for the harbor to be considered flushed, such that only 1/e of particles present at Day 1 of the simulation remain.",
 "name": "DFO/LH_FlushTime",
 "description": "Flushing Time (days) Date: 2014 Copyright: Applied Geomatics Research Group (AGRG) Nova Scotia Community College (NSCC) Description: The number of days it takes for the harbor to be considered flushed, such that only 1/e of particles present at Day 1 of the simulation remain.",
 "extent": {
  "xmin": 532505,
  "ymin": 5054421,
  "xmax": 539462,
  "ymax": 5056761,
  "spatialReference": {
   "wkid": 26920,
   "latestWkid": 26920
  }
 },
 "initialExtent": {
  "xmin": 532505,
  "ymin": 5054421,
  "xmax": 539462,
  "ymax": 5056761,
  "spatialReference": {
   "wkid": 26920,
   "latestWkid": 26920
  }
 },
 "fullExtent": {
  "xmin": 532505,
  "ymin": 5054421,
  "xmax": 539462,
  "ymax": 5056761,
  "spatialReference": {
   "wkid": 26920,
   "latestWkid": 26920
  }
 },
 "pixelSizeX": 3,
 "pixelSizeY": 3,
 "bandCount": 1,
 "pixelType": "F32",
 "minPixelSize": 0,
 "maxPixelSize": 0,
 "copyrightText": "Nova Scotia Community College (NSCC) Applied Geomatics Research Group (AGRG) ",
 "serviceDataType": "esriImageServiceDataTypeGeneric",
 "minValues": [
  0.16666667163372
 ],
 "maxValues": [
  30
 ],
 "meanValues": [
  9.062567244683
 ],
 "stdvValues": [
  11.808919628103
 ],
 "objectIdField": "",
 "fields": [],
 "capabilities": "Image,Metadata,Mensuration",
 "defaultMosaicMethod": "Center",
 "allowedMosaicMethods": "",
 "sortField": "",
 "sortValue": null,
 "sortAscending": true,
 "mosaicOperator": "First",
 "defaultCompressionQuality": 75,
 "defaultResamplingMethod": "Bilinear",
 "maxImageHeight": 4100,
 "maxImageWidth": 15000,
 "allowRasterFunction": true,
 "rasterFunctionInfos": [
  {
   "name": "FlushingTime",
   "description": "A raster function template.",
   "help": ""
  },
  {
   "name": "None",
   "description": "",
   "help": ""
  }
 ],
 "rasterTypeInfos": [
  {
   "name": "Raster Dataset",
   "description": "Supports all ArcGIS Raster Datasets",
   "help": ""
  }
 ],
 "mensurationCapabilities": "Basic",
 "hasHistograms": true,
 "hasColormap": false,
 "hasRasterAttributeTable": false,
 "minScale": 0,
 "maxScale": 0,
 "exportTilesAllowed": false,
 "hasMultidimensions": false,
 "supportsStatistics": false,
 "supportsAdvancedQueries": false,
 "editFieldsInfo": null,
 "ownershipBasedAccessControlForRasters": null,
 "allowComputeTiePoints": false,
 "useStandardizedQueries": true,
 "advancedQueryCapabilities": {
  "useStandardizedQueries": true,
  "supportsStatistics": false,
  "supportsOrderBy": false,
  "supportsDistinct": false,
  "supportsPagination": false
 },
 "spatialReference": {
  "wkid": 26920,
  "latestWkid": 26920
 }
}
