View In:
ArcGIS JavaScript
ArcGIS Online Map Viewer
ArcGIS Earth
ArcMap
View Footprint In:
ArcGIS Online Map Viewer
Service Description: DEM created by Leading Edge Geomatics for the LEG Demo.
Name: LEG_Demo/S_LEG_DEM
Description: DEM created by Leading Edge Geomatics for the LEG Demo.
Single Fused Map Cache: false
Extent:
XMin: 2503236.4333554646
YMin: 7439640.3787897825
XMax: 2521221.4333554646
YMax: 7448688.8787897825
Spatial Reference: PROJCS["NAD_1983_CSRS_New_Brunswick_Stereographic",GEOGCS["GCS_North_American_1983_CSRS",DATUM["D_North_American_1983_CSRS",SPHEROID["GRS_1980",6378137.0,298.257222101]],PRIMEM["Greenwich",0.0],UNIT["Degree",0.0174532925199433]],PROJECTION["Stereographic"],PARAMETER["false_easting",2500000.0],PARAMETER["false_northing",7500000.0],PARAMETER["central_meridian",-66.5],PARAMETER["scale_factor",0.999912],PARAMETER["latitude_of_origin",46.5],UNIT["Meter",1.0]]
Initial Extent:
XMin: 2503236.4333554646
YMin: 7439640.3787897825
XMax: 2521221.4333554646
YMax: 7448688.8787897825
Spatial Reference: PROJCS["NAD_1983_CSRS_New_Brunswick_Stereographic",GEOGCS["GCS_North_American_1983_CSRS",DATUM["D_North_American_1983_CSRS",SPHEROID["GRS_1980",6378137.0,298.257222101]],PRIMEM["Greenwich",0.0],UNIT["Degree",0.0174532925199433]],PROJECTION["Stereographic"],PARAMETER["false_easting",2500000.0],PARAMETER["false_northing",7500000.0],PARAMETER["central_meridian",-66.5],PARAMETER["scale_factor",0.999912],PARAMETER["latitude_of_origin",46.5],UNIT["Meter",1.0]]
Full Extent:
XMin: 2503236.4333554646
YMin: 7439640.3787897825
XMax: 2521221.4333554646
YMax: 7448688.8787897825
Spatial Reference: PROJCS["NAD_1983_CSRS_New_Brunswick_Stereographic",GEOGCS["GCS_North_American_1983_CSRS",DATUM["D_North_American_1983_CSRS",SPHEROID["GRS_1980",6378137.0,298.257222101]],PRIMEM["Greenwich",0.0],UNIT["Degree",0.0174532925199433]],PROJECTION["Stereographic"],PARAMETER["false_easting",2500000.0],PARAMETER["false_northing",7500000.0],PARAMETER["central_meridian",-66.5],PARAMETER["scale_factor",0.999912],PARAMETER["latitude_of_origin",46.5],UNIT["Meter",1.0]]
Pixel Size X: 0.5
Pixel Size Y: 0.5
Band Count: 1
Pixel Type: F32
RasterFunction Infos: {"rasterFunctionInfos": [
{
"name": "None",
"description": "A No-Op Function.",
"help": ""
},
{
"name": "HS_Template",
"description": "A raster function template.",
"help": ""
},
{
"name": "CSR_Template",
"description": "A raster function template.",
"help": ""
}
]}
Mensuration Capabilities: Basic
Has Histograms: true
Has Colormap: false
Has Multi Dimensions : false
Rendering Rule:
Min Scale: 0
Max Scale: 0
Copyright Text: Leading Edge Geomatics & NSCC
Service Data Type: esriImageServiceDataTypeGeneric
Min Values: 13.144344329833984
Max Values: 148.38763427734375
Mean Values: 80.47821030916647
Standard Deviation Values: 27.10718074268814
Object ID Field: OBJECTID
Fields:
-
OBJECTID
(
type: esriFieldTypeOID, alias: OBJECTID
)
-
Shape
(
type: esriFieldTypeGeometry, alias: Shape
)
-
Name
(
type: esriFieldTypeString, alias: Name, length: 200
)
-
MinPS
(
type: esriFieldTypeDouble, alias: MinPS
)
-
MaxPS
(
type: esriFieldTypeDouble, alias: MaxPS
)
-
LowPS
(
type: esriFieldTypeDouble, alias: LowPS
)
-
HighPS
(
type: esriFieldTypeDouble, alias: HighPS
)
-
Category
(
type: esriFieldTypeInteger, alias: Category
, Coded Values:
[0: Unknown]
, [1: Primary]
, [2: Overview]
, ...5 more...
)
-
Tag
(
type: esriFieldTypeString, alias: Tag, length: 100
)
-
GroupName
(
type: esriFieldTypeString, alias: GroupName, length: 100
)
-
ProductName
(
type: esriFieldTypeString, alias: ProductName, length: 100
)
-
CenterX
(
type: esriFieldTypeDouble, alias: CenterX
)
-
CenterY
(
type: esriFieldTypeDouble, alias: CenterY
)
-
ZOrder
(
type: esriFieldTypeInteger, alias: ZOrder
)
-
Shape_Length
(
type: esriFieldTypeDouble, alias: Shape_Length
)
-
Shape_Area
(
type: esriFieldTypeDouble, alias: Shape_Area
)
Default Mosaic Method: Northwest
Allowed Mosaic Methods: NorthWest,Center,LockRaster,ByAttribute,Nadir,Viewpoint,Seamline,None
SortField:
SortValue: null
Mosaic Operator: First
Default Compression Quality: 75
Default Resampling Method: Bilinear
Max Record Count: 1000
Max Image Height: 4100
Max Image Width: 15000
Max Download Image Count: 20
Max Mosaic Image Count: 20
Allow Raster Function: true
Allow Copy: null
Allow Analysis: null
Allow Compute TiePoints: false
Supports Statistics: true
Supports Advanced Queries: true
Use StandardizedQueries: true
Raster Type Infos:
Name: Raster Dataset
Description: Supports all ArcGIS Raster Datasets
Help:
Has Raster Attribute Table: false
Edit Fields Info: null
Ownership Based AccessControl For Rasters: null
Child Resources:
Info
Histograms
Key Properties
Legend
Raster Function Infos
Supported Operations:
Export Image
Query
Identify
Measure
Compute Histograms
Compute Statistics Histograms
Get Samples
Compute Class Statistics
Query Boundary
Compute Pixel Location
Validate
Project