View In:
ArcGIS JavaScript
ArcGIS Online Map Viewer
ArcGIS Earth
ArcMap
View Footprint In:
ArcGIS Online Map Viewer
Service Description: RGB Orthophoto for LEG Demo
Name: LEG_Demo/Acadia_Noonan_RGB
Description: RGB Orthophoto for LEG Demo
Single Fused Map Cache: false
Extent:
XMin: 696000.125
YMin: 5091989.875
XMax: 715010.125
YMax: 5101999.875
Spatial Reference: 26919
(26919)
Initial Extent:
XMin: 696000.125
YMin: 5091989.875
XMax: 715010.125
YMax: 5101999.875
Spatial Reference: 26919
(26919)
Full Extent:
XMin: 696000.125
YMin: 5091989.875
XMax: 715010.125
YMax: 5101999.875
Spatial Reference: 26919
(26919)
Pixel Size X: 0.25
Pixel Size Y: 0.25
Band Count: 3
Pixel Type: U8
RasterFunction Infos: {"rasterFunctionInfos": [{
"name": "None",
"description": "",
"help": ""
}]}
Mensuration Capabilities: Basic
Has Histograms: true
Has Colormap: false
Has Multi Dimensions : false
Rendering Rule:
Min Scale: 0
Max Scale: 0
Copyright Text: Leading Edge Geomatics & NSCC
Service Data Type: esriImageServiceDataTypeRGB
Min Values: 0, 0, 0
Max Values: 255, 255, 255
Mean Values: 128.28423956993822, 126.78092881277061, 122.71320896094963
Standard Deviation Values: 103.91783453065706, 104.63709733403047, 107.50255195502261
Object ID Field:
Fields:
None
Default Mosaic Method: Center
Allowed Mosaic Methods:
SortField:
SortValue: null
Mosaic Operator: First
Default Compression Quality: 75
Default Resampling Method: Bilinear
Max Record Count: null
Max Image Height: 4100
Max Image Width: 15000
Max Download Image Count: null
Max Mosaic Image Count: null
Allow Raster Function: true
Allow Copy: null
Allow Analysis: null
Allow Compute TiePoints: false
Supports Statistics: false
Supports Advanced Queries: false
Use StandardizedQueries: true
Raster Type Infos:
Name: Raster Dataset
Description: Supports all ArcGIS Raster Datasets
Help:
Has Raster Attribute Table: false
Edit Fields Info: null
Ownership Based AccessControl For Rasters: null
Child Resources:
Info
Histograms
Key Properties
Legend
Raster Function Infos
Supported Operations:
Export Image
Identify
Measure
Compute Histograms
Compute Statistics Histograms
Get Samples
Compute Class Statistics
Query Boundary
Compute Pixel Location
Validate
Project