{
 "currentVersion": 10.81,
 "serviceDescription": "ElevationModels/HRDEM_dtm_1m_utm20",
 "name": "ElevationModels/HRDEM_dtm_1m_utm20",
 "description": "",
 "extent": {
  "xmin": 180000.10840000026,
  "ymin": 4800001.088300001,
  "xmax": 770000.1084000003,
  "ymax": 5340001.088300001,
  "spatialReference": {
   "wkid": 26920,
   "latestWkid": 26920
  }
 },
 "initialExtent": {
  "xmin": 180000.10840000026,
  "ymin": 4800001.088300001,
  "xmax": 770000.1084000003,
  "ymax": 5340001.088300001,
  "spatialReference": {
   "wkid": 26920,
   "latestWkid": 26920
  }
 },
 "fullExtent": {
  "xmin": 180000.10840000026,
  "ymin": 4800001.088300001,
  "xmax": 770000.1084000003,
  "ymax": 5340001.088300001,
  "spatialReference": {
   "wkid": 26920,
   "latestWkid": 26920
  }
 },
 "pixelSizeX": 1,
 "pixelSizeY": 1,
 "datasetFormat": "AMD",
 "uncompressedSize": 1274400000000,
 "blockWidth": 2048,
 "blockHeight": 256,
 "compressionType": "None",
 "bandNames": [
  "Band_1"
 ],
 "allowCopy": true,
 "allowAnalysis": true,
 "bandCount": 1,
 "pixelType": "F32",
 "minPixelSize": 0,
 "maxPixelSize": 0,
 "copyrightText": "",
 "serviceDataType": "esriImageServiceDataTypeGeneric",
 "serviceSourceType": "esriImageServiceSourceTypeMosaicDataset",
 "minValues": [
  -25.494895935058594
 ],
 "maxValues": [
  781.18505859375
 ],
 "meanValues": [
  116.82507385716279
 ],
 "stdvValues": [
  117.20776617180819
 ],
 "objectIdField": "OBJECTID",
 "fields": [
  {
   "name": "OBJECTID",
   "type": "esriFieldTypeOID",
   "alias": "OBJECTID",
   "domain": null
  },
  {
   "name": "Shape",
   "type": "esriFieldTypeGeometry",
   "alias": "Shape",
   "domain": null
  },
  {
   "name": "Name",
   "type": "esriFieldTypeString",
   "alias": "Name",
   "domain": null,
   "length": 200
  },
  {
   "name": "MinPS",
   "type": "esriFieldTypeDouble",
   "alias": "MinPS",
   "domain": null
  },
  {
   "name": "MaxPS",
   "type": "esriFieldTypeDouble",
   "alias": "MaxPS",
   "domain": null
  },
  {
   "name": "LowPS",
   "type": "esriFieldTypeDouble",
   "alias": "LowPS",
   "domain": null
  },
  {
   "name": "HighPS",
   "type": "esriFieldTypeDouble",
   "alias": "HighPS",
   "domain": null
  },
  {
   "name": "Category",
   "type": "esriFieldTypeInteger",
   "alias": "Category",
   "domain": {
    "type": "codedValue",
    "name": "MosaicCatalogItemCategoryDomain",
    "description": "Catalog item categories.",
    "codedValues": [
     {
      "name": "Unknown",
      "code": 0
     },
     {
      "name": "Primary",
      "code": 1
     },
     {
      "name": "Overview",
      "code": 2
     },
     {
      "name": "Unprocessed Overview",
      "code": 3
     },
     {
      "name": "Partial Overview",
      "code": 4
     },
     {
      "name": "Inactive",
      "code": 5
     },
     {
      "name": "Uploaded",
      "code": 253
     },
     {
      "name": "Incomplete",
      "code": 254
     },
     {
      "name": "Custom",
      "code": 255
     }
    ],
    "mergePolicy": "esriMPTDefaultValue",
    "splitPolicy": "esriSPTDefaultValue"
   }
  },
  {
   "name": "Tag",
   "type": "esriFieldTypeString",
   "alias": "Tag",
   "domain": null,
   "length": 100
  },
  {
   "name": "GroupName",
   "type": "esriFieldTypeString",
   "alias": "GroupName",
   "domain": null,
   "length": 100
  },
  {
   "name": "ProductName",
   "type": "esriFieldTypeString",
   "alias": "ProductName",
   "domain": null,
   "length": 100
  },
  {
   "name": "CenterX",
   "type": "esriFieldTypeDouble",
   "alias": "CenterX",
   "domain": null
  },
  {
   "name": "CenterY",
   "type": "esriFieldTypeDouble",
   "alias": "CenterY",
   "domain": null
  },
  {
   "name": "ZOrder",
   "type": "esriFieldTypeInteger",
   "alias": "ZOrder",
   "domain": null
  },
  {
   "name": "Shape_Length",
   "type": "esriFieldTypeDouble",
   "alias": "Shape_Length",
   "domain": null
  },
  {
   "name": "Shape_Area",
   "type": "esriFieldTypeDouble",
   "alias": "Shape_Area",
   "domain": null
  }
 ],
 "capabilities": "Catalog,Pixels,Image,Metadata",
 "defaultMosaicMethod": "Northwest",
 "allowedMosaicMethods": "NorthWest,Center,LockRaster,ByAttribute,Nadir,Viewpoint,Seamline,None",
 "sortField": "",
 "sortValue": null,
 "sortAscending": true,
 "mosaicOperator": "First",
 "maxDownloadSizeLimit": 2048,
 "defaultCompressionQuality": 75,
 "defaultResamplingMethod": "Bilinear",
 "maxImageHeight": 4100,
 "maxImageWidth": 15000,
 "maxRecordCount": 1000,
 "maxDownloadImageCount": 20,
 "maxMosaicImageCount": 20,
 "singleFusedMapCache": true,
 "tileInfo": {
  "rows": 256,
  "cols": 256,
  "dpi": 96,
  "format": "PNG32",
  "compressionQuality": 0,
  "origin": {
   "x": -5120900,
   "y": 9998100
  },
  "spatialReference": {
   "wkid": 26920,
   "latestWkid": 26920
  },
  "lods": [
   {
    "level": 0,
    "resolution": 1058.3354500042335,
    "scale": 4000000
   },
   {
    "level": 1,
    "resolution": 529.1677250021168,
    "scale": 2000000
   },
   {
    "level": 2,
    "resolution": 264.5838625010584,
    "scale": 1000000
   },
   {
    "level": 3,
    "resolution": 132.2919312505292,
    "scale": 500000
   },
   {
    "level": 4,
    "resolution": 66.1459656252646,
    "scale": 250000
   },
   {
    "level": 5,
    "resolution": 33.0729828126323,
    "scale": 125000
   },
   {
    "level": 6,
    "resolution": 16.933367200067735,
    "scale": 64000
   },
   {
    "level": 7,
    "resolution": 8.466683600033868,
    "scale": 32000
   },
   {
    "level": 8,
    "resolution": 4.233341800016934,
    "scale": 16000
   },
   {
    "level": 9,
    "resolution": 2.116670900008467,
    "scale": 8000
   },
   {
    "level": 10,
    "resolution": 1.0583354500042335,
    "scale": 4000
   },
   {
    "level": 11,
    "resolution": 0.5291677250021167,
    "scale": 2000
   },
   {
    "level": 12,
    "resolution": 0.26458386250105836,
    "scale": 1000
   },
   {
    "level": 13,
    "resolution": 0.13229193125052918,
    "scale": 500
   },
   {
    "level": 14,
    "resolution": 0.06614596562526459,
    "scale": 250
   }
  ]
 },
 "cacheType": "Map",
 "allowRasterFunction": true,
 "rasterFunctionInfos": [
  {
   "name": "None",
   "description": "",
   "help": ""
  }
 ],
 "rasterTypeInfos": [
  {
   "name": "Raster Dataset",
   "description": "Supports all ArcGIS Raster Datasets",
   "help": ""
  }
 ],
 "mensurationCapabilities": "None",
 "hasHistograms": true,
 "hasColormap": false,
 "hasRasterAttributeTable": false,
 "minScale": 0,
 "maxScale": 0,
 "exportTilesAllowed": false,
 "hasMultidimensions": false,
 "supportsStatistics": true,
 "supportsAdvancedQueries": true,
 "editFieldsInfo": null,
 "ownershipBasedAccessControlForRasters": null,
 "allowComputeTiePoints": false,
 "useStandardizedQueries": true,
 "advancedQueryCapabilities": {
  "useStandardizedQueries": true,
  "supportsStatistics": true,
  "supportsOrderBy": true,
  "supportsDistinct": true,
  "supportsPagination": true
 },
 "spatialReference": {
  "wkid": 26920,
  "latestWkid": 26920
 }
}
