{
 "currentVersion": 10.81,
 "serviceDescription": "Oyster Suspension Aquaculture Suitability Date: 2018 Copyright: Applied Geomatics Research Group (AGRG) Nova Scotia Community College (NSCC) Description: A measure of an area\u2019s suitability for Oyster Suspension Aquaculture Suitability, created using an expert weighted overlay of relevant environmental conditions. ",
 "name": "DFO/Suitability_Map",
 "description": "Oyster Suspension Aquaculture Suitability Date: 2018 Copyright: Applied Geomatics Research Group (AGRG) Nova Scotia Community College (NSCC) Description: A measure of an area\u2019s suitability for Oyster Suspension Aquaculture Suitability, created using an expert weighted overlay of relevant environmental conditions. ",
 "extent": {
  "xmin": 531000,
  "ymin": 5054000,
  "xmax": 542000,
  "ymax": 5058000,
  "spatialReference": {
   "wkid": 2038,
   "latestWkid": 2961
  }
 },
 "initialExtent": {
  "xmin": 531000,
  "ymin": 5054000,
  "xmax": 542000,
  "ymax": 5058000,
  "spatialReference": {
   "wkid": 2038,
   "latestWkid": 2961
  }
 },
 "fullExtent": {
  "xmin": 531000,
  "ymin": 5054000,
  "xmax": 542000,
  "ymax": 5058000,
  "spatialReference": {
   "wkid": 2038,
   "latestWkid": 2961
  }
 },
 "pixelSizeX": 1,
 "pixelSizeY": 1,
 "bandCount": 1,
 "pixelType": "U8",
 "minPixelSize": 0,
 "maxPixelSize": 0,
 "copyrightText": "Nova Scotia Community College (NSCC) Applied Geomatics Research Group (AGRG)",
 "serviceDataType": "esriImageServiceDataTypeGeneric",
 "minValues": [
  26
 ],
 "maxValues": [
  98
 ],
 "meanValues": [
  67.71753190045
 ],
 "stdvValues": [
  13.161955449339
 ],
 "objectIdField": "",
 "fields": [],
 "capabilities": "Image,Metadata,Mensuration",
 "defaultMosaicMethod": "Center",
 "allowedMosaicMethods": "",
 "sortField": "",
 "sortValue": null,
 "sortAscending": true,
 "mosaicOperator": "First",
 "defaultCompressionQuality": 75,
 "defaultResamplingMethod": "Bilinear",
 "maxImageHeight": 4100,
 "maxImageWidth": 15000,
 "allowRasterFunction": true,
 "rasterFunctionInfos": [
  {
   "name": "Suitability",
   "description": "A raster function template.",
   "help": ""
  },
  {
   "name": "None",
   "description": "",
   "help": ""
  }
 ],
 "rasterTypeInfos": [
  {
   "name": "Raster Dataset",
   "description": "Supports all ArcGIS Raster Datasets",
   "help": ""
  }
 ],
 "mensurationCapabilities": "Basic",
 "hasHistograms": true,
 "hasColormap": false,
 "hasRasterAttributeTable": true,
 "minScale": 0,
 "maxScale": 0,
 "exportTilesAllowed": false,
 "hasMultidimensions": false,
 "supportsStatistics": false,
 "supportsAdvancedQueries": false,
 "editFieldsInfo": null,
 "ownershipBasedAccessControlForRasters": null,
 "allowComputeTiePoints": false,
 "useStandardizedQueries": true,
 "advancedQueryCapabilities": {
  "useStandardizedQueries": true,
  "supportsStatistics": false,
  "supportsOrderBy": false,
  "supportsDistinct": false,
  "supportsPagination": false
 },
 "spatialReference": {
  "wkid": 2038,
  "latestWkid": 2961
 }
}
